BEGIN:VCALENDAR
VERSION:2.0
PRODID:-//Fermexplore - ECPv6.15.11//NONSGML v1.0//EN
CALSCALE:GREGORIAN
METHOD:PUBLISH
X-ORIGINAL-URL:https://fermexplore.ch
X-WR-CALDESC:Évènements pour Fermexplore
REFRESH-INTERVAL;VALUE=DURATION:PT1H
X-Robots-Tag:noindex
X-PUBLISHED-TTL:PT1H
BEGIN:VTIMEZONE
TZID:Europe/Zurich
BEGIN:DAYLIGHT
TZOFFSETFROM:+0100
TZOFFSETTO:+0200
TZNAME:CEST
DTSTART:20240331T010000
END:DAYLIGHT
BEGIN:STANDARD
TZOFFSETFROM:+0200
TZOFFSETTO:+0100
TZNAME:CET
DTSTART:20241027T010000
END:STANDARD
BEGIN:DAYLIGHT
TZOFFSETFROM:+0100
TZOFFSETTO:+0200
TZNAME:CEST
DTSTART:20250330T010000
END:DAYLIGHT
BEGIN:STANDARD
TZOFFSETFROM:+0200
TZOFFSETTO:+0100
TZNAME:CET
DTSTART:20251026T010000
END:STANDARD
BEGIN:DAYLIGHT
TZOFFSETFROM:+0100
TZOFFSETTO:+0200
TZNAME:CEST
DTSTART:20260329T010000
END:DAYLIGHT
BEGIN:STANDARD
TZOFFSETFROM:+0200
TZOFFSETTO:+0100
TZNAME:CET
DTSTART:20261025T010000
END:STANDARD
END:VTIMEZONE
BEGIN:VEVENT
DTSTART;TZID=Europe/Zurich:20251013T090000
DTEND;TZID=Europe/Zurich:20251017T170000
DTSTAMP:20260424T215504
CREATED:20251006T180845Z
LAST-MODIFIED:20251006T181543Z
UID:5150-1760346000-1760720400@fermexplore.ch
SUMMARY:Camp d'automne
DESCRIPTION:Chaque jour son thème:\nLundi : le chemin de la laine \, du mouton à la pelote\nMardi : la courge dans tous ses états (COMPLET)\nMercredi  : sortie en forêt avec les ânesses\, chasse au trésor\nJeudi : le chemin du chocolat \, de la cabosse de cacao au petit pain au chocolat (COMPLET)\nVendredi : pommes\, poires\, coings … transformation des fruits d’automne\nTous les jours: soins et caresses aux animaux – cuisine – jardinage par petits groupes et bien sûr des moments pour jouer.
URL:https://fermexplore.ch/event/camp-doctobre/
END:VEVENT
BEGIN:VEVENT
DTSTART;TZID=Europe/Zurich:20250913T100000
DTEND;TZID=Europe/Zurich:20250913T170000
DTSTAMP:20260424T215504
CREATED:20250902T085101Z
LAST-MODIFIED:20250902T085101Z
UID:4776-1757757600-1757782800@fermexplore.ch
SUMMARY:Marché du Coin
DESCRIPTION:
URL:https://fermexplore.ch/event/marche-du-coin/
LOCATION:Association fermexplore\, Route de la Plantaz\, Bournens\, 1035\, Switzerland
END:VEVENT
END:VCALENDAR